BEGIN:VCALENDAR
VERSION:2.0
PRODID:icalendar-ruby
CALSCALE:GREGORIAN
METHOD:PUBLISH
BEGIN:VEVENT
DTSTAMP:20260422T202528Z
UID:100-347520@rockingham.org.au
DTSTART:20261025T013000Z
DTEND:20261025T024500Z
CLASS:PUBLIC
CREATED:20260423T015831
DESCRIPTION:Family Service
LAST-MODIFIED:20260423T015831
LOCATION:In the Church Hall
SUMMARY:Family Service
URL;VALUE=URI:https://rockingham.org.au/events/family-service--99/2026-10-2
 5
END:VEVENT
END:VCALENDAR
