BEGIN:VCALENDAR
VERSION:2.0
PRODID:icalendar-ruby
CALSCALE:GREGORIAN
METHOD:PUBLISH
BEGIN:VEVENT
DTSTAMP:20260422T220118Z
UID:100-347788@rockingham.org.au
DTSTART:20261101T013000Z
DTEND:20261101T024500Z
CLASS:PUBLIC
CREATED:20260423T045338
DESCRIPTION:Family Service
LAST-MODIFIED:20260423T045338
LOCATION:In the Church Hall
SUMMARY:Family Service
URL;VALUE=URI:https://rockingham.org.au/events/family-service--99/2026-11-0
 1
END:VEVENT
END:VCALENDAR
