BEGIN:VCALENDAR
VERSION:2.0
PRODID:icalendar-ruby
CALSCALE:GREGORIAN
METHOD:PUBLISH
BEGIN:VEVENT
DTSTAMP:20260423T160651Z
UID:150-348389@rockingham.org.au
DTSTART:20260526T103000Z
DTEND:20260526T120000Z
CLASS:PUBLIC
CREATED:20260423T143943
DESCRIPTION:
LAST-MODIFIED:20260423T143943
LOCATION:In the Church Hall
SUMMARY:Fellaship
URL;VALUE=URI:https://rockingham.org.au/events/fellaship--150/2026-05-26
ATTACH;FILENAME=Fellaship-Website-Events.jpg;FMTTYPE=image/jpeg:https://dq5
 pwpg1q8ru0.cloudfront.net/2026/04/23/06/39/43/0b1a733e-15ec-4994-8c19-eeb5
 7e1b9e44/Fellaship-Website-Events.jpg
END:VEVENT
END:VCALENDAR
