BEGIN:VCALENDAR
VERSION:2.0
PRODID:icalendar-ruby
CALSCALE:GREGORIAN
METHOD:PUBLISH
BEGIN:VEVENT
DTSTAMP:20260423T160338Z
UID:152-348392@rockingham.org.au
DTSTART:20260531T030000Z
DTEND:20260531T043000Z
CLASS:PUBLIC
CREATED:20260423T144548
DESCRIPTION:
LAST-MODIFIED:20260423T144548
LOCATION:In the Church Hall
SUMMARY:International Lunch
URL;VALUE=URI:https://rockingham.org.au/events/international-lunch--152/202
 6-05-31
ATTACH;FILENAME=IL-Website-Events.jpg;FMTTYPE=image/jpeg:https://dq5pwpg1q8
 ru0.cloudfront.net/2026/04/23/06/45/02/a76c6429-fed8-4692-852c-d21e6a2b1cc
 1/IL-Website-Events.jpg
END:VEVENT
END:VCALENDAR
