BEGIN:VCALENDAR
VERSION:2.0
PRODID:icalendar-ruby
CALSCALE:GREGORIAN
METHOD:PUBLISH
BEGIN:VEVENT
DTSTAMP:20260423T160050Z
UID:151-348390@rockingham.org.au
DTSTART:20260502T030000Z
DTEND:20260502T090000Z
CLASS:PUBLIC
CREATED:20260423T144303
DESCRIPTION:
LAST-MODIFIED:20260423T144303
LOCATION:In the Ministry Centre
SUMMARY:Shoebox House Craft Day
URL;VALUE=URI:https://rockingham.org.au/events/shoebox-house-craft-day--151
 /2026-05-02
ATTACH;FILENAME=Website-Events-10.jpg;FMTTYPE=image/jpeg:https://dq5pwpg1q8
 ru0.cloudfront.net/2026/04/23/06/43/03/dd6fe511-c0ff-4e13-ac67-1ac911ceb8e
 e/Website-Events-10.jpg
END:VEVENT
END:VCALENDAR
